BEGIN:VCALENDAR
VERSION:2.0
PRODID:-//Knaresborough Historical Society - ECPv6.15.17.1//NONSGML v1.0//EN
CALSCALE:GREGORIAN
METHOD:PUBLISH
X-ORIGINAL-URL:https://knaresboroughhistory.org.uk
X-WR-CALDESC:Events for Knaresborough Historical Society
REFRESH-INTERVAL;VALUE=DURATION:PT1H
X-Robots-Tag:noindex
X-PUBLISHED-TTL:PT1H
BEGIN:VTIMEZONE
TZID:Europe/London
BEGIN:DAYLIGHT
TZOFFSETFROM:+0000
TZOFFSETTO:+0100
TZNAME:BST
DTSTART:20240331T010000
END:DAYLIGHT
BEGIN:STANDARD
TZOFFSETFROM:+0100
TZOFFSETTO:+0000
TZNAME:GMT
DTSTART:20241027T010000
END:STANDARD
BEGIN:DAYLIGHT
TZOFFSETFROM:+0000
TZOFFSETTO:+0100
TZNAME:BST
DTSTART:20250330T010000
END:DAYLIGHT
BEGIN:STANDARD
TZOFFSETFROM:+0100
TZOFFSETTO:+0000
TZNAME:GMT
DTSTART:20251026T010000
END:STANDARD
BEGIN:DAYLIGHT
TZOFFSETFROM:+0000
TZOFFSETTO:+0100
TZNAME:BST
DTSTART:20260329T010000
END:DAYLIGHT
BEGIN:STANDARD
TZOFFSETFROM:+0100
TZOFFSETTO:+0000
TZNAME:GMT
DTSTART:20261025T010000
END:STANDARD
END:VTIMEZONE
BEGIN:VEVENT
DTSTART;TZID=Europe/London:20250506T193000
DTEND;TZID=Europe/London:20250506T203000
DTSTAMP:20260421T165216
CREATED:20250323T101748Z
LAST-MODIFIED:20250323T101750Z
UID:1071-1746559800-1746563400@knaresboroughhistory.org.uk
SUMMARY:Place Names & Peoples
DESCRIPTION:Following a very interesting talk by Tony last year when he told us Tales of Tudor York. This year he will tell us about York in the time of James I\, the Plague\, Politics and Frost. Tony is a resident of Tadcaster whose initial interest and fascination with the story of Guy Fawkes has led… Continue reading York in the Time of James I – Plague\, Politics and Frost- By Tony Morgan
URL:https://knaresboroughhistory.org.uk/programme/place-names-peoples/
LOCATION:Yorkshire
END:VEVENT
END:VCALENDAR